BEGIN:VCALENDAR
VERSION:2.0
PRODID:-//eventon.com NONSGML v1.0//EN
CALSCALE:GREGORIAN
METHOD:PUBLISH
BEGIN:VEVENT
UID:69ea53f3ccf91
DTSTAMP:20260423T171635Z
DTSTART:20240203T214500Z
DTEND:20240203T214500Z
LOCATION:
SUMMARY:SA Mairangi Bay Get Together.
DESCRIPTION:Contact Penelope Rijkaart-Berrington on 09 4265933. Please call
  for Dates and Venues.  \nhttps://southafricans.co.nz/events/sa-mairangi-b
 ay-get-together/var/ri-68.l-L1
URL:https://southafricans.co.nz/events/sa-mairangi-bay-get-together/var/ri-68.l-L1
END:VEVENT
END:VCALENDAR